BEGIN:VCALENDAR
VERSION:2.0
PRODID:-//Odoo//Event//EN
CALSCALE:GREGORIAN
METHOD:PUBLISH
BEGIN:VEVENT
UID:11838@ewomennetwork.com
DTSTAMP:20260419T185130Z
DTSTART:20260416T161500Z
DTEND:20260416T183000Z
SUMMARY:From Idea to Influence: Why Your Book Matters Now
DESCRIPTION:Event Name: From Idea to Influence: Why Your Book Matters Now
LOCATION:Flemings Steakhouse & Wine Bar
END:VEVENT
END:VCALENDAR
