BEGIN:VCALENDAR
VERSION:2.0
PRODID:-//Odoo//Event//EN
CALSCALE:GREGORIAN
METHOD:PUBLISH
BEGIN:VEVENT
UID:12431@ewomennetwork.com
DTSTAMP:20260420T144757Z
DTSTART:20260401T190000Z
DTEND:20260401T210000Z
SUMMARY:The Breakthrough Roadmap: How to Rewire Your Mind and Reach Your Goals the Easy Way
DESCRIPTION:Event Name: The Breakthrough Roadmap: How to Rewire Your Mind and Reach Your Goals the Easy Way
LOCATION:El Camino Country Club
END:VEVENT
END:VCALENDAR
