BEGIN:VCALENDAR
VERSION:2.0
PRODID:-//Odoo//Event//EN
CALSCALE:GREGORIAN
METHOD:PUBLISH
BEGIN:VEVENT
UID:12641@ewomennetwork.com
DTSTAMP:20260423T013333Z
DTSTART:20261021T183000Z
DTEND:20261021T203000Z
SUMMARY:It's Not Who You Know. It's Who Knows You!
DESCRIPTION:Event Name: It's Not Who You Know. It's Who Knows You!
LOCATION:Glen Annie Golf Club
END:VEVENT
END:VCALENDAR
