BEGIN:VCALENDAR
VERSION:2.0
PRODID:-//Odoo//Event//EN
CALSCALE:GREGORIAN
METHOD:PUBLISH
BEGIN:VEVENT
UID:12650@ewomennetwork.com
DTSTAMP:20260423T170702Z
DTSTART:20260430T150000Z
DTEND:20260430T170000Z
SUMMARY:Strategic In-Person Business Introductions
DESCRIPTION:Event Name: Strategic In-Person Business Introductions
LOCATION:The Bloom Center at Progress Square
END:VEVENT
END:VCALENDAR
